BEGIN:VCALENDAR
VERSION:2.0
PRODID:-//Decide DeKalb - ECPv6.15.20//NONSGML v1.0//EN
CALSCALE:GREGORIAN
METHOD:PUBLISH
X-WR-CALNAME:Decide DeKalb
X-ORIGINAL-URL:https://www.decidedekalb.com
X-WR-CALDESC:Events for Decide DeKalb
REFRESH-INTERVAL;VALUE=DURATION:PT1H
X-Robots-Tag:noindex
X-PUBLISHED-TTL:PT1H
BEGIN:VTIMEZONE
TZID:America/New_York
BEGIN:DAYLIGHT
TZOFFSETFROM:-0500
TZOFFSETTO:-0400
TZNAME:EDT
DTSTART:20200308T070000
END:DAYLIGHT
BEGIN:STANDARD
TZOFFSETFROM:-0400
TZOFFSETTO:-0500
TZNAME:EST
DTSTART:20201101T060000
END:STANDARD
BEGIN:DAYLIGHT
TZOFFSETFROM:-0500
TZOFFSETTO:-0400
TZNAME:EDT
DTSTART:20210314T070000
END:DAYLIGHT
BEGIN:STANDARD
TZOFFSETFROM:-0400
TZOFFSETTO:-0500
TZNAME:EST
DTSTART:20211107T060000
END:STANDARD
BEGIN:DAYLIGHT
TZOFFSETFROM:-0500
TZOFFSETTO:-0400
TZNAME:EDT
DTSTART:20220313T070000
END:DAYLIGHT
BEGIN:STANDARD
TZOFFSETFROM:-0400
TZOFFSETTO:-0500
TZNAME:EST
DTSTART:20221106T060000
END:STANDARD
BEGIN:DAYLIGHT
TZOFFSETFROM:-0500
TZOFFSETTO:-0400
TZNAME:EDT
DTSTART:20230312T070000
END:DAYLIGHT
BEGIN:STANDARD
TZOFFSETFROM:-0400
TZOFFSETTO:-0500
TZNAME:EST
DTSTART:20231105T060000
END:STANDARD
END:VTIMEZONE
BEGIN:VEVENT
DTSTART;TZID=America/New_York:20220302T093000
DTEND;TZID=America/New_York:20220302T103000
DTSTAMP:20260421T134004
CREATED:20220302T152845Z
LAST-MODIFIED:20220302T152845Z
UID:10000060-1646213400-1646217000@www.decidedekalb.com
SUMMARY:Project & Incentives Review Committee (PIR) Meeting
DESCRIPTION:Decide DeKalb’s Project & Incentives Review Committee will meet Friday\, March 4 at 9:30am via Zoom. \nClick here to join the meeting:\nhttps://us06web.zoom.us/j/91415698978?pwd=WkVta3poYUk4bVA4SURwVEYrTkdDdz09 \nMeeting ID: 914 1569 8978\nPasscode: 274770\nOne tap mobile\n+19292056099\,\,91415698978#\,\,\,\,*274770# US (New York)\n+13017158592\,\,91415698978#\,\,\,\,*274770# US (Washington DC) \nDial by your location\n+1 929 205 6099 US (New York)\n+1 301 715 8592 US (Washington DC)\n+1 312 626 6799 US (Chicago)\n+1 669 900 6833 US (San Jose)\n+1 253 215 8782 US (Tacoma)\n+1 346 248 7799 US (Houston)\nMeeting ID: 914 1569 8978\nPasscode: 274770\nFind your local number: https://us06web.zoom.us/u/kc3wO3WFat
URL:https://www.decidedekalb.com/event/project-incentives-review-committee-pir-meeting/
LOCATION:GA
END:VEVENT
BEGIN:VEVENT
DTSTART;TZID=America/New_York:20220122T083000
DTEND;TZID=America/New_York:20220122T093000
DTSTAMP:20260421T134004
CREATED:20210715T204818Z
LAST-MODIFIED:20220114T110324Z
UID:10000052-1642840200-1642843800@www.decidedekalb.com
SUMMARY:Decide DeKalb Board of Directors Meeting
DESCRIPTION:Decide DeKalb Board meetings are occurring virtually for the time being. Click the “Watch” button below to access the meeting at its scheduled time. \nTo access the meeting:\n\nClick the blue Join the Meeting button\nEnter the passcode DDDA (enter it in all caps)
URL:https://www.decidedekalb.com/event/decide-dekalb-board-of-directors-meeting-2022-01-13/
LOCATION:https://us06web.zoom.us/j/84717917346
CATEGORIES:Administrative,Board of Directors
END:VEVENT
BEGIN:VEVENT
DTSTART;TZID=America/New_York:20220118T143000
DTEND;TZID=America/New_York:20220118T153000
DTSTAMP:20260421T134004
CREATED:20220115T024556Z
LAST-MODIFIED:20220115T024556Z
UID:10000058-1642516200-1642519800@www.decidedekalb.com
SUMMARY:Personnel Committee
DESCRIPTION:Decide DeKalb Development Authority will have its Personnel Committee meeting Tuesday\, January 18 at 2:30pm. \nJoin this conference call by dialing in: \n646.741.5292 \nMeeting ID: 11115450927
URL:https://www.decidedekalb.com/event/personnel-committee/
LOCATION:GA
END:VEVENT
BEGIN:VEVENT
DTSTART;TZID=America/New_York:20211021T083000
DTEND;TZID=America/New_York:20211021T093000
DTSTAMP:20260421T134004
CREATED:20210715T204818Z
LAST-MODIFIED:20211020T032030Z
UID:10000051-1634805000-1634808600@www.decidedekalb.com
SUMMARY:Decide DeKalb Board of Directors Meeting
DESCRIPTION:Decide DeKalb Board meetings are occurring virtually for the time being. Click the “Watch” button below to access the meeting at its scheduled time. \nTo access the meeting:\n\nClick the blue Join the Meeting button\nEnter the passcode DDDA (enter it in all caps)
URL:https://www.decidedekalb.com/event/decide-dekalb-board-of-directors-meeting-2021-11-11/
LOCATION:https://us06web.zoom.us/j/81832455531?pwd=L1hrckVGSWZidUxTaEgxalI2OU1tdz09
CATEGORIES:Administrative,Board of Directors
END:VEVENT
BEGIN:VEVENT
DTSTART;TZID=America/New_York:20211014T083000
DTEND;TZID=America/New_York:20211014T093000
DTSTAMP:20260421T134004
CREATED:20210715T204818Z
LAST-MODIFIED:20211013T180810Z
UID:10000050-1634200200-1634203800@www.decidedekalb.com
SUMMARY:Decide DeKalb Board of Directors Meeting
DESCRIPTION:Thank you for supporting the Decide DeKalb Development Authority.  Our Board Meeting scheduled for October 14\, 2021\, at 8:30 am has been postponed due to unforeseen circumstances.  A new date for our October meeting will be shared via social media and updated on our website once the meeting is rescheduled.  Thank you in advance for your consideration and understanding. \nDecide DeKalb Board meetings are occurring virtually for the time being. Click the “Watch” button below to access the meeting at its scheduled time. \nTo access the meeting:\n\nClick the blue Join the Meeting button\nEnter the passcode DDDA (enter it in all caps)
URL:https://www.decidedekalb.com/event/decide-dekalb-board-of-directors-meeting-2021-10-14/
LOCATION:https://www.decidedekalb.com/event/decide-dekalb-board-of-directors-meeting-2021-10-14/
CATEGORIES:Administrative,Board of Directors
END:VEVENT
BEGIN:VEVENT
DTSTART;TZID=America/New_York:20210825T100000
DTEND;TZID=America/New_York:20210825T110000
DTSTAMP:20260421T134004
CREATED:20210825T133916Z
LAST-MODIFIED:20210825T134000Z
UID:10000057-1629885600-1629889200@www.decidedekalb.com
SUMMARY:Decide DeKalb Board of Directors Meeting
DESCRIPTION:
URL:https://www.decidedekalb.com/event/decide-dekalb-board-of-directors-meeting-08-25/
LOCATION:https://www.decidedekalb.com/event/decide-dekalb-board-of-directors-meeting-08-25/
CATEGORIES:Administrative,Board of Directors
END:VEVENT
BEGIN:VEVENT
DTSTART;TZID=America/New_York:20210812T083000
DTEND;TZID=America/New_York:20210812T093000
DTSTAMP:20260421T134004
CREATED:20210715T204818Z
LAST-MODIFIED:20210811T214915Z
UID:10000049-1628757000-1628760600@www.decidedekalb.com
SUMMARY:Decide DeKalb Board of Directors Meeting
DESCRIPTION:
URL:https://www.decidedekalb.com/event/decide-dekalb-board-of-directors-meeting-2021-08-12/
LOCATION:GA
CATEGORIES:Administrative,Board of Directors
END:VEVENT
END:VCALENDAR