BEGIN:VCALENDAR
VERSION:2.0
PRODID:-//Decide DeKalb - ECPv6.15.20//NONSGML v1.0//EN
CALSCALE:GREGORIAN
METHOD:PUBLISH
X-ORIGINAL-URL:https://www.decidedekalb.com
X-WR-CALDESC:Events for Decide DeKalb
REFRESH-INTERVAL;VALUE=DURATION:PT1H
X-Robots-Tag:noindex
X-PUBLISHED-TTL:PT1H
BEGIN:VTIMEZONE
TZID:America/New_York
BEGIN:DAYLIGHT
TZOFFSETFROM:-0500
TZOFFSETTO:-0400
TZNAME:EDT
DTSTART:20250309T070000
END:DAYLIGHT
BEGIN:STANDARD
TZOFFSETFROM:-0400
TZOFFSETTO:-0500
TZNAME:EST
DTSTART:20251102T060000
END:STANDARD
BEGIN:DAYLIGHT
TZOFFSETFROM:-0500
TZOFFSETTO:-0400
TZNAME:EDT
DTSTART:20260308T070000
END:DAYLIGHT
BEGIN:STANDARD
TZOFFSETFROM:-0400
TZOFFSETTO:-0500
TZNAME:EST
DTSTART:20261101T060000
END:STANDARD
BEGIN:DAYLIGHT
TZOFFSETFROM:-0500
TZOFFSETTO:-0400
TZNAME:EDT
DTSTART:20270314T070000
END:DAYLIGHT
BEGIN:STANDARD
TZOFFSETFROM:-0400
TZOFFSETTO:-0500
TZNAME:EST
DTSTART:20271107T060000
END:STANDARD
END:VTIMEZONE
BEGIN:VEVENT
DTSTART;TZID=America/New_York:20260319T113000
DTEND;TZID=America/New_York:20260319T133000
DTSTAMP:20260423T094542
CREATED:20260220T152822Z
LAST-MODIFIED:20260220T152822Z
UID:10000716-1773919800-1773927000@www.decidedekalb.com
SUMMARY:Tax Allocation Districts: Are You Leaving Value On The Table?
DESCRIPTION:
URL:https://www.decidedekalb.com/event/tax-allocation-districts-are-you-leaving-value-on-the-table/
LOCATION:Palisades Office Park – Building D Conference Room\, 5909 Peachtree Dunwoody Rd.\, Atlanta\, GA\, 30328\, United States
CATEGORIES:Community
ATTACH;FMTTYPE=image/jpeg:https://www.decidedekalb.com/wp-content/uploads/2026/02/2026QGIFlyer-scaled.jpg
END:VEVENT
END:VCALENDAR